BEGIN:VCALENDAR
VERSION:2.0
PRODID:-//MOSES Madison - ECPv6.15.18//NONSGML v1.0//EN
CALSCALE:GREGORIAN
METHOD:PUBLISH
X-WR-CALNAME:MOSES Madison
X-ORIGINAL-URL:https://www.mosesmadison.org
X-WR-CALDESC:Events for MOSES Madison
REFRESH-INTERVAL;VALUE=DURATION:PT1H
X-Robots-Tag:noindex
X-PUBLISHED-TTL:PT1H
BEGIN:VTIMEZONE
TZID:America/Chicago
BEGIN:DAYLIGHT
TZOFFSETFROM:-0600
TZOFFSETTO:-0500
TZNAME:CDT
DTSTART:20250309T080000
END:DAYLIGHT
BEGIN:STANDARD
TZOFFSETFROM:-0500
TZOFFSETTO:-0600
TZNAME:CST
DTSTART:20251102T070000
END:STANDARD
BEGIN:DAYLIGHT
TZOFFSETFROM:-0600
TZOFFSETTO:-0500
TZNAME:CDT
DTSTART:20260308T080000
END:DAYLIGHT
BEGIN:STANDARD
TZOFFSETFROM:-0500
TZOFFSETTO:-0600
TZNAME:CST
DTSTART:20261101T070000
END:STANDARD
BEGIN:DAYLIGHT
TZOFFSETFROM:-0600
TZOFFSETTO:-0500
TZNAME:CDT
DTSTART:20270314T080000
END:DAYLIGHT
BEGIN:STANDARD
TZOFFSETFROM:-0500
TZOFFSETTO:-0600
TZNAME:CST
DTSTART:20271107T070000
END:STANDARD
END:VTIMEZONE
BEGIN:VEVENT
DTSTART;TZID=America/Chicago:20260421T163000
DTEND;TZID=America/Chicago:20260421T173000
DTSTAMP:20260420T040258
CREATED:20260322T193405Z
LAST-MODIFIED:20260322T193651Z
UID:10005134-1776789000-1776792600@www.mosesmadison.org
SUMMARY:MOSES RJAC Housing Group
DESCRIPTION:Our mission is to expand access to affordable housing for families with children and reduce youth homelessness in Dane County.
URL:https://www.mosesmadison.org/event/rjac-housing-group/2026-04-21/
LOCATION:via Zoom: Please contact organizer for meeting zoom link
CATEGORIES:MOSES Task Force Working Group
ATTACH;FMTTYPE=image/webp:https://www.mosesmadison.org/wp-content/uploads/2022/04/featured_art_affordable_housing.jpg.webp
ORGANIZER;CN="Patti La Cross":MAILTO:lacross.patricia@gmail.com
END:VEVENT
BEGIN:VEVENT
DTSTART;TZID=America/Chicago:20260423T193000
DTEND;TZID=America/Chicago:20260423T203000
DTSTAMP:20260420T040258
CREATED:20230726T025354Z
LAST-MODIFIED:20250507T222317Z
UID:10002185-1776972600-1776976200@www.mosesmadison.org
SUMMARY:WISDOM Post-Release Working Group
DESCRIPTION:CONTACT organizer for Zoom link \nJoin this statewide call which discusses our work to: \n\nEnd crimeless revocations. The largest number of people entering Wisconsin prisons are actually re-entering prison. About 4\,000 prison admissions each year are people who have not been convicted of a new crime.\nOpen the doors of opportunity through Ban the Box legislation\, reform of the CCAP on-line database\, changes in rules for public housing\, financial aid for college\, and more.\nWelcome formerly incarcerated people back to the community and ensure that formerly incarcerated people have a voice in the community and in matters that affect them. They ought to have back their right to vote\, and to be heard.\nUsually meets 4th Thursday of the month
URL:https://www.mosesmadison.org/event/wisdom-post-release-conference-call-14/2026-04-23/
LOCATION:Via Zoom: please contact organizer for Zoom link
CATEGORIES:WISDOM Working Group
ATTACH;FMTTYPE=image/jpeg:https://www.mosesmadison.org/wp-content/uploads/2020/08/WISDOM-4-Post-Release.jpg
ORGANIZER;CN="Mark Rice":MAILTO:ricermark@gmail.com
END:VEVENT
BEGIN:VEVENT
DTSTART;TZID=America/Chicago:20260427T153000
DTEND;TZID=America/Chicago:20260427T170000
DTSTAMP:20260420T040258
CREATED:20251017T213958Z
LAST-MODIFIED:20251017T214001Z
UID:10004814-1777303800-1777309200@www.mosesmadison.org
SUMMARY:MOSES Justice and Policing Task Force
DESCRIPTION:Our purpose is to understand and remedy disparities in policing and responsiveness at the beginning stages of the criminal legal process\nInitial meetings will be in person in Room 117 of the UW South Madison Partnership facility. Please check with the organizer to confirm whether a particular meeting will be in person or via zoom\, which will vary over time.
URL:https://www.mosesmadison.org/event/moses-justice-and-policing-task-force-2/2026-04-27/
LOCATION:UW South Madison Partnership\, The Village on Park St\, 2238 S. Park Street\, Madison\, WI\, 53713\, United States
CATEGORIES:MOSES Task Force
ATTACH;FMTTYPE=image/jpeg:https://www.mosesmadison.org/wp-content/uploads/2025/05/civilianpolicencounter.jpg
ORGANIZER;CN="Doug Maynard":MAILTO:JPTF.moses.madison@gmail.com
END:VEVENT
END:VCALENDAR