BEGIN:VCALENDAR
VERSION:2.0
PRODID:-//MOSES Madison - ECPv6.15.18//NONSGML v1.0//EN
CALSCALE:GREGORIAN
METHOD:PUBLISH
X-ORIGINAL-URL:https://www.mosesmadison.org
X-WR-CALDESC:Events for MOSES Madison
REFRESH-INTERVAL;VALUE=DURATION:PT1H
X-Robots-Tag:noindex
X-PUBLISHED-TTL:PT1H
BEGIN:VTIMEZONE
TZID:America/Chicago
BEGIN:DAYLIGHT
TZOFFSETFROM:-0600
TZOFFSETTO:-0500
TZNAME:CDT
DTSTART:20250309T080000
END:DAYLIGHT
BEGIN:STANDARD
TZOFFSETFROM:-0500
TZOFFSETTO:-0600
TZNAME:CST
DTSTART:20251102T070000
END:STANDARD
BEGIN:DAYLIGHT
TZOFFSETFROM:-0600
TZOFFSETTO:-0500
TZNAME:CDT
DTSTART:20260308T080000
END:DAYLIGHT
BEGIN:STANDARD
TZOFFSETFROM:-0500
TZOFFSETTO:-0600
TZNAME:CST
DTSTART:20261101T070000
END:STANDARD
BEGIN:DAYLIGHT
TZOFFSETFROM:-0600
TZOFFSETTO:-0500
TZNAME:CDT
DTSTART:20270314T080000
END:DAYLIGHT
BEGIN:STANDARD
TZOFFSETFROM:-0500
TZOFFSETTO:-0600
TZNAME:CST
DTSTART:20271107T070000
END:STANDARD
END:VTIMEZONE
BEGIN:VEVENT
DTSTART;TZID=America/Chicago:20260122T170000
DTEND;TZID=America/Chicago:20260122T180000
DTSTAMP:20260420T225509
CREATED:20230726T023500Z
LAST-MODIFIED:20260112T004049Z
UID:10004872-1769101200-1769104800@www.mosesmadison.org
SUMMARY:WISDOM Conditions of Confinement Working Group
DESCRIPTION:Please join our work to greatly reduce the use of solitary confinement. More than 15 days in solitary confinement is torture. It magnifies mental health issues and destroys people. Other states and nations have learned to get by without it\, we can too.   *Formerly called the Solitary Confinement Task Force
URL:https://www.mosesmadison.org/event/wisdom-conditions-of-confinement-conference-call-19/2026-01-22/
LOCATION:via Zoom: Please contact organizer for meeting zoom link
CATEGORIES:WISDOM Working Group
ATTACH;FMTTYPE=image/jpeg:https://www.mosesmadison.org/wp-content/uploads/2020/08/WISDOM-1-Conditions-of-Confinement.jpg
ORGANIZER;CN="Mark Rice":MAILTO:ricermark@gmail.com
END:VEVENT
BEGIN:VEVENT
DTSTART;TZID=America/Chicago:20260122T193000
DTEND;TZID=America/Chicago:20260122T203000
DTSTAMP:20260420T225509
CREATED:20230726T025354Z
LAST-MODIFIED:20250507T222317Z
UID:10002182-1769110200-1769113800@www.mosesmadison.org
SUMMARY:WISDOM Post-Release Working Group
DESCRIPTION:CONTACT organizer for Zoom link \nJoin this statewide call which discusses our work to: \n\nEnd crimeless revocations. The largest number of people entering Wisconsin prisons are actually re-entering prison. About 4\,000 prison admissions each year are people who have not been convicted of a new crime.\nOpen the doors of opportunity through Ban the Box legislation\, reform of the CCAP on-line database\, changes in rules for public housing\, financial aid for college\, and more.\nWelcome formerly incarcerated people back to the community and ensure that formerly incarcerated people have a voice in the community and in matters that affect them. They ought to have back their right to vote\, and to be heard.\nUsually meets 4th Thursday of the month
URL:https://www.mosesmadison.org/event/wisdom-post-release-conference-call-14/2026-01-22/
LOCATION:Via Zoom: please contact organizer for Zoom link
CATEGORIES:WISDOM Working Group
ATTACH;FMTTYPE=image/jpeg:https://www.mosesmadison.org/wp-content/uploads/2020/08/WISDOM-4-Post-Release.jpg
ORGANIZER;CN="Mark Rice":MAILTO:ricermark@gmail.com
END:VEVENT
END:VCALENDAR