BEGIN:VCALENDAR
VERSION:2.0
PRODID:-//MOSES Madison - ECPv6.15.18//NONSGML v1.0//EN
CALSCALE:GREGORIAN
METHOD:PUBLISH
X-WR-CALNAME:MOSES Madison
X-ORIGINAL-URL:https://www.mosesmadison.org
X-WR-CALDESC:Events for MOSES Madison
REFRESH-INTERVAL;VALUE=DURATION:PT1H
X-Robots-Tag:noindex
X-PUBLISHED-TTL:PT1H
BEGIN:VTIMEZONE
TZID:America/Chicago
BEGIN:DAYLIGHT
TZOFFSETFROM:-0600
TZOFFSETTO:-0500
TZNAME:CDT
DTSTART:20240310T080000
END:DAYLIGHT
BEGIN:STANDARD
TZOFFSETFROM:-0500
TZOFFSETTO:-0600
TZNAME:CST
DTSTART:20241103T070000
END:STANDARD
BEGIN:DAYLIGHT
TZOFFSETFROM:-0600
TZOFFSETTO:-0500
TZNAME:CDT
DTSTART:20250309T080000
END:DAYLIGHT
BEGIN:STANDARD
TZOFFSETFROM:-0500
TZOFFSETTO:-0600
TZNAME:CST
DTSTART:20251102T070000
END:STANDARD
BEGIN:DAYLIGHT
TZOFFSETFROM:-0600
TZOFFSETTO:-0500
TZNAME:CDT
DTSTART:20260308T080000
END:DAYLIGHT
BEGIN:STANDARD
TZOFFSETFROM:-0500
TZOFFSETTO:-0600
TZNAME:CST
DTSTART:20261101T070000
END:STANDARD
END:VTIMEZONE
BEGIN:VEVENT
DTSTART;TZID=America/Chicago:20250915T123000
DTEND;TZID=America/Chicago:20250915T140000
DTSTAMP:20260421T201711
CREATED:20250911T192430Z
LAST-MODIFIED:20250911T192430Z
UID:10004749-1757939400-1757944800@www.mosesmadison.org
SUMMARY:MOSES Fundraising Team
DESCRIPTION:Join the Fundraising Team. Help strategize longer term fundraising plans.
URL:https://www.mosesmadison.org/event/moses-fundraising-team-2/2025-09-15/
LOCATION:Linden Cohousing\, 107 Sutherland Ct\, Madison\, WI\, 53704
CATEGORIES:Operational Team
ATTACH;FMTTYPE=image/png:https://www.mosesmadison.org/wp-content/uploads/2023/09/service3.png
ORGANIZER;CN="James Morgan":MAILTO:info@mosesmadison.org
END:VEVENT
BEGIN:VEVENT
DTSTART;TZID=America/Chicago:20250915T150000
DTEND;TZID=America/Chicago:20250915T163000
DTSTAMP:20260421T201711
CREATED:20250805T202149Z
LAST-MODIFIED:20250805T202149Z
UID:10004198-1757948400-1757953800@www.mosesmadison.org
SUMMARY:MOSES Justice and Policing Task Force
DESCRIPTION:Our purpose is to understand and remedy disparities in policing and responsiveness at the beginning stages of the criminal legal process\nInitial meetings will be in person in Room 117 of the UW South Madison Partnership facility. Please check with the organizer to confirm whether a particular meeting will be in person or via zoom\, which will vary over time.
URL:https://www.mosesmadison.org/event/moses-justice-and-policing-task-force/2025-09-15/
LOCATION:UW South Madison Partnership\, The Village on Park St\, 2238 S. Park Street\, Madison\, WI\, 53713\, United States
CATEGORIES:MOSES Task Force
ATTACH;FMTTYPE=image/jpeg:https://www.mosesmadison.org/wp-content/uploads/2025/05/civilianpolicencounter.jpg
ORGANIZER;CN="Doug Maynard":MAILTO:JPTF.moses.madison@gmail.com
END:VEVENT
END:VCALENDAR